

BEGIN:VCALENDAR
VERSION:2.0
PRODID:-//TYPO3/NONSGML TBS Event//EN
CALSCALE:GREGORIAN
METHOD:PUBLISH
BEGIN:VTIMEZONE
TZID:Europe/Berlin
BEGIN:DAYLIGHT
TZOFFSETFROM:+0100
TZOFFSETTO:+0200
TZNAME:CEST
DTSTART:19700329T020000
RRULE:FREQ=YEARLY;BYMONTH=3;BYDAY=-1SU
END:DAYLIGHT
BEGIN:STANDARD
TZOFFSETFROM:+0200
TZOFFSETTO:+0100
TZNAME:CET
DTSTART:19701025T030000
RRULE:FREQ=YEARLY;BYMONTH=10;BYDAY=-1SU
END:STANDARD
END:VTIMEZONE
BEGIN:VEVENT
UID:event-124@www.gruene-bundestag.de
SUMMARY:Natur platt, Verfahren platt – Zukunft platt? Fachgespräch zum sogenannten &quot;Infrastruktur-Zukunftsgesetz&quot;
DESCRIPTION:Mit dem sogenannten &quot;Infrastruktur-Zukunftsgesetz&quot; plant die Bundesregierung unter dem Deckmantel der Planungs- und Genehmigungsbeschleunigung einen Generalangriff auf den Natur- und Umweltschutz. Und auf demokratische Beteiligungsrechte der Bürger*innen. So drohen eine uferlose Ausweitung des überragenden öffentlichen Interesses für Straßenneubau, die Beschränkung von Beteiligungs- und Klagerechten und die Abschaffung des regulären Flächenausgleichs für Natureingriffe. Diese Änderungen gehen nicht nur an den Kernursachen langer Genehmigungsverfahren vorbei, sondern könnten sogar Verfahren verlangsamen und den Sanierungsstau weiter verschärfen.Diese und weitere kritische Punkte möchten wir im Rahmen eines Fachgesprächs mit Fachleuten und interessierten Bürger*innen diskutieren. Dabei wollen wir auch Raum bieten, um echte Lösungen für eine funktionierende Verfahrensbeschleunigung zu diskutieren, die nachhaltig und demokratisch ausgestaltet ist.Die Veranstaltung findet auch online als Videokonferenz statt. Die Moderation informiert Sie während der Veranstaltung, in welcher Form Sie Fragen stellen und sich beteiligen können. Beachten Sie bitte auch unseren Datenschutzhinweis zur Verwendung von Zoom: https://www.gruene-bundestag.de/zoom-hinweisVeranstalterFB 2-Koordinationsbüro (Ökologie)Platz der Republik 1, 11011 BerlinTEL 030/227 59406fachbereich2@gruene-bundestag.de
LOCATION:Deutscher Bundestag, Paul-Löbe-Haus, Raum 4.600, Konrad-Adenauer-Str. 1, 10557 Berlin
URL:https://www.gruene-bundestag.de/veranstaltungen/veranstaltung/natur-platt-verfahren-platt-zukunft-platt-fachgespraech-zum-sogenannten-infrastruktur-zukunftsgesetz/
DTSTART;TZID=Europe/Berlin:20260302T113000
DTEND;TZID=Europe/Berlin:20260302T143000
DTSTAMP:20260226T081833Z
END:VEVENT
END:VCALENDAR
